BEGIN:VCALENDAR
VERSION:2.0
PRODID:-//time.you/holidays//NONSGML v1.0//EN
BEGIN:VEVENT
UID:0cd08220-3cda-4fe7-b5a0-b86e91c65bcc
DTSTAMP:20260420T074459Z
DTSTART;VALUE=DATE:20260403
SUMMARY:Good Friday (Solomon Islands)
END:VEVENT
END:VCALENDAR