BEGIN:VCALENDAR
VERSION:2.0
PRODID:-//time.you/holidays//NONSGML v1.0//EN
BEGIN:VEVENT
UID:2003d61c-a4ab-4020-94b5-d1f94093a01e
DTSTAMP:20260422T030359Z
DTSTART;VALUE=DATE:20260731
SUMMARY:Guadalcanal Province Day (observed) (Solomon Islands)
END:VEVENT
END:VCALENDAR