BEGIN:VCALENDAR
VERSION:2.0
PRODID:-//time.you/holidays//NONSGML v1.0//EN
BEGIN:VEVENT
UID:94c8c5b6-c17d-4c3f-853a-79030585b4d7
DTSTAMP:20260422T000210Z
DTSTART;VALUE=DATE:20260801
SUMMARY:Guadalcanal Province Day (Solomon Islands)
END:VEVENT
END:VCALENDAR