BEGIN:VCALENDAR
VERSION:2.0
PRODID:-//time.you/holidays//NONSGML v1.0//EN
BEGIN:VEVENT
UID:b34ad385-1f10-400b-a8a6-da5e1c18e94d
DTSTAMP:20260420T062440Z
DTSTART;VALUE=DATE:20260404
SUMMARY:Holy Saturday (Solomon Islands)
END:VEVENT
END:VCALENDAR