BEGIN:VCALENDAR
VERSION:2.0
PRODID:-//time.you/holidays//NONSGML v1.0//EN
BEGIN:VEVENT
UID:56c11224-2748-4244-a859-172d57b629ea
DTSTAMP:20260423T141559Z
DTSTART;VALUE=DATE:20290601
SUMMARY:Isabel Province Day (observed) (Solomon Islands)
END:VEVENT
END:VCALENDAR