BEGIN:VCALENDAR
VERSION:2.0
PRODID:-//time.you/holidays//NONSGML v1.0//EN
BEGIN:VEVENT
UID:12f69793-ca98-4cea-88d5-da397b6573e2
DTSTAMP:20260422T070813Z
DTSTART;VALUE=DATE:20240614
SUMMARY:King's Birthday (observed) (Solomon Islands)
END:VEVENT
END:VCALENDAR