BEGIN:VCALENDAR
VERSION:2.0
PRODID:-//time.you/holidays//NONSGML v1.0//EN
BEGIN:VEVENT
UID:91322180-57f5-41a7-9a6d-571807f9c537
DTSTAMP:20260424T164226Z
DTSTART;VALUE=DATE:20300802
SUMMARY:Makira-Ulawa Province Day (observed) (Solomon Islands)
END:VEVENT
END:VCALENDAR