BEGIN:VCALENDAR
VERSION:2.0
PRODID:-//time.you/holidays//NONSGML v1.0//EN
BEGIN:VEVENT
UID:0b2459da-7d8c-430e-ad80-5768608fb648
DTSTAMP:20260421T194457Z
DTSTART;VALUE=DATE:20260815
SUMMARY:Malaita Province Day (Solomon Islands)
END:VEVENT
END:VCALENDAR