BEGIN:VCALENDAR
VERSION:2.0
PRODID:-//time.you/holidays//NONSGML v1.0//EN
BEGIN:VEVENT
UID:70dd3d51-6c16-4149-a57f-45c515954c84
DTSTAMP:20260424T164449Z
DTSTART;VALUE=DATE:20261228
SUMMARY:National Day of Thanksgiving (observed) (Solomon Islands)
END:VEVENT
END:VCALENDAR