BEGIN:VCALENDAR
VERSION:2.0
PRODID:-//time.you/holidays//NONSGML v1.0//EN
BEGIN:VEVENT
UID:c20047dd-8654-47c7-bf52-7013764ea38a
DTSTAMP:20260420T113750Z
DTSTART;VALUE=DATE:20261226
SUMMARY:National Day of Thanksgiving (Solomon Islands)
END:VEVENT
END:VCALENDAR