BEGIN:VCALENDAR
VERSION:2.0
PRODID:-//time.you/holidays//NONSGML v1.0//EN
BEGIN:VEVENT
UID:06240afc-7e3e-49b2-a384-cd2999aaf684
DTSTAMP:20260421T223909Z
DTSTART;VALUE=DATE:20300607
SUMMARY:Temotu Province Day (observed) (Solomon Islands)
END:VEVENT
END:VCALENDAR