BEGIN:VCALENDAR
VERSION:2.0
PRODID:-//time.you/holidays//NONSGML v1.0//EN
BEGIN:VEVENT
UID:33c28ce3-5f3d-4ee5-b99c-a152dcd72991
DTSTAMP:20260422T070939Z
DTSTART;VALUE=DATE:20260608
SUMMARY:Temotu Province Day (Solomon Islands)
END:VEVENT
END:VCALENDAR