BEGIN:VCALENDAR
VERSION:2.0
PRODID:-//time.you/holidays//NONSGML v1.0//EN
BEGIN:VEVENT
UID:0b3cf24d-3c9c-47f3-b903-88cd8c4e86b2
DTSTAMP:20260421T194551Z
DTSTART;VALUE=DATE:20261207
SUMMARY:Western Province Day (Solomon Islands)
END:VEVENT
END:VCALENDAR