BEGIN:VCALENDAR
VERSION:2.0
PRODID:-//time.you/holidays//NONSGML v1.0//EN
BEGIN:VEVENT
UID:0c5ed306-cdd3-4bdb-979a-05be72290935
DTSTAMP:20260421T132758Z
DTSTART;VALUE=DATE:20260625
SUMMARY:Ashura (estimated) (Somalia)
END:VEVENT
END:VCALENDAR