BEGIN:VCALENDAR
VERSION:2.0
PRODID:-//time.you/holidays//NONSGML v1.0//EN
BEGIN:VEVENT
UID:a6085a2a-fd08-45ad-a938-69b8fc9d5cbf
DTSTAMP:20260421T223958Z
DTSTART;VALUE=DATE:20250626
SUMMARY:Independence Day; Islamic New Year (estimated) (Somalia)
END:VEVENT
END:VCALENDAR