BEGIN:VCALENDAR
VERSION:2.0
PRODID:-//time.you/holidays//NONSGML v1.0//EN
BEGIN:VEVENT
UID:59fb585d-9a76-45a4-a329-29e7af295ce7
DTSTAMP:20260420T163242Z
DTSTART;VALUE=DATE:20260626
SUMMARY:Independence Day (Somalia)
END:VEVENT
END:VCALENDAR