BEGIN:VCALENDAR
VERSION:2.0
PRODID:-//time.you/holidays//NONSGML v1.0//EN
BEGIN:VEVENT
UID:9342a3de-85ac-4780-a17f-9c6b5c1bdaf4
DTSTAMP:20260423T162129Z
DTSTART;VALUE=DATE:20260616
SUMMARY:Islamic New Year (estimated) (Somalia)
END:VEVENT
END:VCALENDAR