BEGIN:VCALENDAR
VERSION:2.0
PRODID:-//time.you/holidays//NONSGML v1.0//EN
BEGIN:VEVENT
UID:44b8cbce-dcc1-4e82-914d-0fd7b47a7f6d
DTSTAMP:20260421T035301Z
DTSTART;VALUE=DATE:20260501
SUMMARY:Labour Day (Somalia)
END:VEVENT
END:VCALENDAR