BEGIN:VCALENDAR
VERSION:2.0
PRODID:-//time.you/holidays//NONSGML v1.0//EN
BEGIN:VEVENT
UID:86a3c011-3d00-40e3-ae19-eec84c43b26e
DTSTAMP:20260420T013840Z
DTSTART;VALUE=DATE:20261225
SUMMARY:Christmas Day (South Africa)
END:VEVENT
END:VCALENDAR