BEGIN:VCALENDAR
VERSION:2.0
PRODID:-//time.you/holidays//NONSGML v1.0//EN
BEGIN:VEVENT
UID:25d70fdb-8a5e-47d8-a7da-44dd3b24073c
DTSTAMP:20260420T022911Z
DTSTART;VALUE=DATE:20260406
SUMMARY:Family Day (South Africa)
END:VEVENT
END:VCALENDAR