BEGIN:VCALENDAR
VERSION:2.0
PRODID:-//time.you/holidays//NONSGML v1.0//EN
BEGIN:VEVENT
UID:e1060c54-e99f-4590-91f4-3f2c4683c5fc
DTSTAMP:20260420T071838Z
DTSTART;VALUE=DATE:20310428
SUMMARY:Freedom Day (observed) (South Africa)
END:VEVENT
END:VCALENDAR