BEGIN:VCALENDAR
VERSION:2.0
PRODID:-//time.you/holidays//NONSGML v1.0//EN
BEGIN:VEVENT
UID:c6352a21-c492-4e32-89ad-626aad216e97
DTSTAMP:20260420T024753Z
DTSTART;VALUE=DATE:20260427
SUMMARY:Freedom Day (South Africa)
END:VEVENT
END:VCALENDAR