BEGIN:VCALENDAR
VERSION:2.0
PRODID:-//time.you/holidays//NONSGML v1.0//EN
BEGIN:VEVENT
UID:b0c2b93c-55cc-4ae6-b1c9-5e9f5c4c7157
DTSTAMP:20260420T024717Z
DTSTART;VALUE=DATE:20260924
SUMMARY:Heritage Day (South Africa)
END:VEVENT
END:VCALENDAR