BEGIN:VCALENDAR
VERSION:2.0
PRODID:-//time.you/holidays//NONSGML v1.0//EN
BEGIN:VEVENT
UID:9fd0319c-6b3c-409c-8ffa-9190160f1042
DTSTAMP:20260420T011455Z
DTSTART;VALUE=DATE:20270322
SUMMARY:Human Rights Day (observed) (South Africa)
END:VEVENT
END:VCALENDAR