BEGIN:VCALENDAR
VERSION:2.0
PRODID:-//time.you/holidays//NONSGML v1.0//EN
BEGIN:VEVENT
UID:97313107-c34e-4ab3-93aa-26dbb4cc7cec
DTSTAMP:20260420T040425Z
DTSTART;VALUE=DATE:20260321
SUMMARY:Human Rights Day (South Africa)
END:VEVENT
END:VCALENDAR