BEGIN:VCALENDAR
VERSION:2.0
PRODID:-//time.you/holidays//NONSGML v1.0//EN
BEGIN:VEVENT
UID:4c7a8284-12bd-4efb-8f79-6d3824f4a863
DTSTAMP:20260420T022256Z
DTSTART;VALUE=DATE:20240529
SUMMARY:National and Provincial Government Elections (South Africa)
END:VEVENT
END:VCALENDAR