BEGIN:VCALENDAR
VERSION:2.0
PRODID:-//time.you/holidays//NONSGML v1.0//EN
BEGIN:VEVENT
UID:c9fb2608-0bc1-4bcc-922c-36e299e9b089
DTSTAMP:20260420T071828Z
DTSTART;VALUE=DATE:20340102
SUMMARY:New Year's Day (observed) (South Africa)
END:VEVENT
END:VCALENDAR