BEGIN:VCALENDAR
VERSION:2.0
PRODID:-//time.you/holidays//NONSGML v1.0//EN
BEGIN:VEVENT
UID:9c01172c-f23c-4546-9a6a-b6c96f25ca81
DTSTAMP:20260419T223744Z
DTSTART;VALUE=DATE:20260101
SUMMARY:New Year's Day (South Africa)
END:VEVENT
END:VCALENDAR