BEGIN:VCALENDAR
VERSION:2.0
PRODID:-//time.you/holidays//NONSGML v1.0//EN
BEGIN:VEVENT
UID:5f777811-80d1-474f-8608-c6fa19438140
DTSTAMP:20260422T004129Z
DTSTART;VALUE=DATE:20231215
SUMMARY:Public Holiday by Presidential Decree (South Africa)
END:VEVENT
END:VCALENDAR