BEGIN:VCALENDAR
VERSION:2.0
PRODID:-//time.you/holidays//NONSGML v1.0//EN
BEGIN:VEVENT
UID:023eaa03-c4a4-49cd-9db6-e8a81ebd4de2
DTSTAMP:20260420T125235Z
DTSTART;VALUE=DATE:20330502
SUMMARY:Workers' Day (observed) (South Africa)
END:VEVENT
END:VCALENDAR