BEGIN:VCALENDAR
VERSION:2.0
PRODID:-//time.you/holidays//NONSGML v1.0//EN
BEGIN:VEVENT
UID:da943474-1713-4a33-8a56-05ba1a9144ed
DTSTAMP:20260420T071831Z
DTSTART;VALUE=DATE:20300617
SUMMARY:Youth Day (observed) (South Africa)
END:VEVENT
END:VCALENDAR