BEGIN:VCALENDAR
VERSION:2.0
PRODID:-//time.you/holidays//NONSGML v1.0//EN
BEGIN:VEVENT
UID:60e37a8c-209c-4848-81de-7270a3e68377
DTSTAMP:20260420T141145Z
DTSTART;VALUE=DATE:20261226
SUMMARY:Boxing Day (South Georgia and the South Sandwich Islands)
END:VEVENT
END:VCALENDAR