BEGIN:VCALENDAR
VERSION:2.0
PRODID:-//time.you/holidays//NONSGML v1.0//EN
BEGIN:VEVENT
UID:578a672d-bdaf-43ca-a8ce-4427fd9eeeb3
DTSTAMP:20260421T211557Z
DTSTART;VALUE=DATE:20271227
SUMMARY:Christmas Day (observed) (South Georgia and the South Sandwich Islands)
END:VEVENT
END:VCALENDAR