BEGIN:VCALENDAR
VERSION:2.0
PRODID:-//time.you/holidays//NONSGML v1.0//EN
BEGIN:VEVENT
UID:b1371751-c4af-43e8-a971-581d7d4a6f58
DTSTAMP:20260420T141214Z
DTSTART;VALUE=DATE:20271101
SUMMARY:Environment Day (observed) (South Georgia and the South Sandwich Islands)
END:VEVENT
END:VCALENDAR