BEGIN:VCALENDAR
VERSION:2.0
PRODID:-//time.you/holidays//NONSGML v1.0//EN
BEGIN:VEVENT
UID:4b50a591-2740-4959-983c-21e7eee97d1c
DTSTAMP:20260420T074322Z
DTSTART;VALUE=DATE:20260403
SUMMARY:Good Friday (South Georgia and the South Sandwich Islands)
END:VEVENT
END:VCALENDAR