BEGIN:VCALENDAR
VERSION:2.0
PRODID:-//time.you/holidays//NONSGML v1.0//EN
BEGIN:VEVENT
UID:ac14d4a8-843a-46fd-a474-7feec6d2b311
DTSTAMP:20260422T003755Z
DTSTART;VALUE=DATE:20231114
SUMMARY:King's Birthday (South Georgia and the South Sandwich Islands)
END:VEVENT
END:VCALENDAR