BEGIN:VCALENDAR
VERSION:2.0
PRODID:-//time.you/holidays//NONSGML v1.0//EN
BEGIN:VEVENT
UID:b3a42bd8-e39c-4f43-be4b-f7b942e7c48c
DTSTAMP:20260420T141106Z
DTSTART;VALUE=DATE:20260622
SUMMARY:Mid-winter Day (observed) (South Georgia and the South Sandwich Islands)
END:VEVENT
END:VCALENDAR