BEGIN:VCALENDAR
VERSION:2.0
PRODID:-//time.you/holidays//NONSGML v1.0//EN
BEGIN:VEVENT
UID:528d1fe4-2735-472b-b4f0-0a4357fb96b3
DTSTAMP:20260420T074258Z
DTSTART;VALUE=DATE:20260101
SUMMARY:New Year's Day (South Georgia and the South Sandwich Islands)
END:VEVENT
END:VCALENDAR