BEGIN:VCALENDAR
VERSION:2.0
PRODID:-//time.you/holidays//NONSGML v1.0//EN
BEGIN:VEVENT
UID:9e6bcd0d-1295-48c2-a962-be3ba7ad9440
DTSTAMP:20260420T141131Z
DTSTART;VALUE=DATE:20260119
SUMMARY:Possession Day (observed) (South Georgia and the South Sandwich Islands)
END:VEVENT
END:VCALENDAR