BEGIN:VCALENDAR
VERSION:2.0
PRODID:-//time.you/holidays//NONSGML v1.0//EN
BEGIN:VEVENT
UID:28761038-12de-45ba-be25-7136ed871e85
DTSTAMP:20260424T164835Z
DTSTART;VALUE=DATE:20220602
SUMMARY:The Queen's Platinum Jubilee (South Georgia and the South Sandwich Islands)
END:VEVENT
END:VCALENDAR