BEGIN:VCALENDAR
VERSION:2.0
PRODID:-//time.you/holidays//NONSGML v1.0//EN
BEGIN:VEVENT
UID:3d430f51-7757-4811-89db-76a2f25e98df
DTSTAMP:20260420T090357Z
DTSTART;VALUE=DATE:20260525
SUMMARY:Alternative holiday for Buddha's Birthday (South Korea)
END:VEVENT
END:VCALENDAR