BEGIN:VCALENDAR
VERSION:2.0
PRODID:-//time.you/holidays//NONSGML v1.0//EN
BEGIN:VEVENT
UID:f9249c71-ad40-4ea6-9ea9-93b9e909c071
DTSTAMP:20260420T071827Z
DTSTART;VALUE=DATE:20260302
SUMMARY:Alternative holiday for Independence Movement Day (South Korea)
END:VEVENT
END:VCALENDAR