BEGIN:VCALENDAR
VERSION:2.0
PRODID:-//time.you/holidays//NONSGML v1.0//EN
BEGIN:VEVENT
UID:6d7e625e-6657-44d0-9e23-602d966c60f4
DTSTAMP:20260421T124657Z
DTSTART;VALUE=DATE:20260524
SUMMARY:Buddha's Birthday (South Korea)
END:VEVENT
END:VCALENDAR