BEGIN:VCALENDAR
VERSION:2.0
PRODID:-//time.you/holidays//NONSGML v1.0//EN
BEGIN:VEVENT
UID:94cd7294-cbfd-4b6b-a1da-5d1e1fac8800
DTSTAMP:20260422T020731Z
DTSTART;VALUE=DATE:20281003
SUMMARY:Chuseok; National Foundation Day (South Korea)
END:VEVENT
END:VCALENDAR