BEGIN:VCALENDAR
VERSION:2.0
PRODID:-//time.you/holidays//NONSGML v1.0//EN
BEGIN:VEVENT
UID:fbe030a1-d414-43ec-aea6-feb9724bc6c1
DTSTAMP:20260420T024414Z
DTSTART;VALUE=DATE:20260815
SUMMARY:Liberation Day (South Korea)
END:VEVENT
END:VCALENDAR