BEGIN:VCALENDAR
VERSION:2.0
PRODID:-//time.you/holidays//NONSGML v1.0//EN
BEGIN:VEVENT
UID:0a57e514-e73c-4a6f-90f9-046e57886873
DTSTAMP:20260421T222312Z
DTSTART;VALUE=DATE:20260603
SUMMARY:Local Election Day (South Korea)
END:VEVENT
END:VCALENDAR