BEGIN:VCALENDAR
VERSION:2.0
PRODID:-//time.you/holidays//NONSGML v1.0//EN
BEGIN:VEVENT
UID:9b97f785-8700-4210-a70d-9665f9ca8c7d
DTSTAMP:20260420T142406Z
DTSTART;VALUE=DATE:20261003
SUMMARY:National Foundation Day (South Korea)
END:VEVENT
END:VCALENDAR