BEGIN:VCALENDAR
VERSION:2.0
PRODID:-//time.you/holidays//NONSGML v1.0//EN
BEGIN:VEVENT
UID:c842cfab-1a97-42cb-b766-2f9a5c5aec4c
DTSTAMP:20260420T084453Z
DTSTART;VALUE=DATE:20260101
SUMMARY:New Year's Day (South Korea)
END:VEVENT
END:VCALENDAR