BEGIN:VCALENDAR
VERSION:2.0
PRODID:-//time.you/holidays//NONSGML v1.0//EN
BEGIN:VEVENT
UID:11e2a436-dca7-4ff3-8499-03b2d807a1e2
DTSTAMP:20260420T055114Z
DTSTART;VALUE=DATE:20260216
SUMMARY:The day preceding Korean New Year (South Korea)
END:VEVENT
END:VCALENDAR