BEGIN:VCALENDAR
VERSION:2.0
PRODID:-//time.you/holidays//NONSGML v1.0//EN
BEGIN:VEVENT
UID:1c4d25fc-736f-4617-89b1-539819e000aa
DTSTAMP:20260422T052933Z
DTSTART;VALUE=DATE:20261225
SUMMARY:Christmas Day (South Sudan)
END:VEVENT
END:VCALENDAR